BEGIN:VCALENDAR
VERSION:2.0
PRODID:icalendar-ruby
CALSCALE:GREGORIAN
METHOD:PUBLISH
BEGIN:VEVENT
DTSTAMP:20260424T112158Z
UID:562-37103@chartwellchurch.com
DTSTART:20261013T140000Z
DTEND:20261013T153000Z
CLASS:PUBLIC
CREATED:20260423T221133
DESCRIPTION:
LAST-MODIFIED:20260423T221133
LOCATION:
SUMMARY:TLC
URL;VALUE=URI:https://chartwellchurch.com/events/tlc--562/2026-10-13
ATTACH;FILENAME=TLC.jpg;FMTTYPE=image/jpeg:https://dq5pwpg1q8ru0.cloudfront
 .net/2026/04/13/17/56/26/1c2f1960-ce60-46a3-8e2d-15ac118d0802/TLC.jpg
END:VEVENT
END:VCALENDAR
