BEGIN:VCALENDAR
VERSION:2.0
PRODID:icalendar-ruby
CALSCALE:GREGORIAN
METHOD:PUBLISH
BEGIN:VEVENT
DTSTAMP:20260420T011548Z
UID:562-36324@chartwellchurch.com
DTSTART:20260825T140000Z
DTEND:20260825T153000Z
CLASS:PUBLIC
CREATED:20260419T191333
DESCRIPTION:
LAST-MODIFIED:20260419T191333
LOCATION:
SUMMARY:TLC
URL;VALUE=URI:https://chartwellchurch.com/events/tlc--562/2026-08-25
ATTACH;FILENAME=TLC.jpg;FMTTYPE=image/jpeg:https://dq5pwpg1q8ru0.cloudfront
 .net/2026/04/13/17/56/26/1c2f1960-ce60-46a3-8e2d-15ac118d0802/TLC.jpg
END:VEVENT
END:VCALENDAR
