BEGIN:VCALENDAR
VERSION:2.0
PRODID:icalendar-ruby
CALSCALE:GREGORIAN
METHOD:PUBLISH
BEGIN:VEVENT
DTSTAMP:20260420T164918Z
UID:551-35778@chartwellchurch.com
DTSTART:20260423T230000Z
DTEND:20260424T010000Z
CLASS:PUBLIC
CREATED:20260416T135345
DESCRIPTION:
LAST-MODIFIED:20260416T135345
LOCATION:228 Chartwell Rd
SUMMARY:Junction Faith Night
URL;VALUE=URI:https://chartwellchurch.com/events/junction-faith-night--551/
 2026-04-23
ATTACH;FILENAME=Junction Plain Logo - 2025-2026.png;FMTTYPE=image/png:https
 ://dq5pwpg1q8ru0.cloudfront.net/2026/04/07/18/05/04/e46e865b-8d5a-4473-93c
 5-7f4457484d95/Junction%20Plain%20Logo%20-%202025-2026.png
END:VEVENT
END:VCALENDAR
