BEGIN:VCALENDAR
VERSION:2.0
PRODID:icalendar-ruby
CALSCALE:GREGORIAN
METHOD:PUBLISH
BEGIN:VEVENT
DTSTAMP:20260420T070925Z
UID:563-35780@chartwellchurch.com
DTSTART:20260430T141500Z
DTEND:20260430T160000Z
CLASS:PUBLIC
CREATED:20260416T141956
DESCRIPTION:
LAST-MODIFIED:20260416T141956
LOCATION:
SUMMARY:Better Together
URL;VALUE=URI:https://chartwellchurch.com/events/better-together--563/2026-
 04-30
ATTACH;FILENAME=Brown Scrapbook Art and History Museum Presentation.jpg;FMT
 TYPE=image/jpeg:https://dq5pwpg1q8ru0.cloudfront.net/2026/04/16/18/19/56/8
 6a1a438-fbb2-47dd-8453-ecfa26f0f844/Brown%20Scrapbook%20Art%20and%20Histor
 y%20Museum%20Presentation.jpg
END:VEVENT
END:VCALENDAR
